BEGIN:VCALENDAR
VERSION:2.0
PRODID:-//St. Matthew&#039;s Episcopal Church - ECPv6.11.0.1//NONSGML v1.0//EN
CALSCALE:GREGORIAN
METHOD:PUBLISH
X-WR-CALNAME:St. Matthew&#039;s Episcopal Church
X-ORIGINAL-URL:https://stmatthewsbrecksville.org
X-WR-CALDESC:Events for St. Matthew&#039;s Episcopal Church
REFRESH-INTERVAL;VALUE=DURATION:PT1H
X-Robots-Tag:noindex
X-PUBLISHED-TTL:PT1H
BEGIN:VTIMEZONE
TZID:America/New_York
BEGIN:DAYLIGHT
TZOFFSETFROM:-0500
TZOFFSETTO:-0400
TZNAME:EDT
DTSTART:20260308T070000
END:DAYLIGHT
BEGIN:STANDARD
TZOFFSETFROM:-0400
TZOFFSETTO:-0500
TZNAME:EST
DTSTART:20261101T060000
END:STANDARD
END:VTIMEZONE
BEGIN:VEVENT
DTSTART;TZID=America/New_York:20260423T183000
DTEND;TZID=America/New_York:20260423T193000
DTSTAMP:20260423T170453
CREATED:20260213T022341Z
LAST-MODIFIED:20260213T022341Z
UID:10003051-1776969000-1776972600@stmatthewsbrecksville.org
SUMMARY:Discovery Science Fair
DESCRIPTION:
URL:https://stmatthewsbrecksville.org/event/discovery-science-fair/
END:VEVENT
BEGIN:VEVENT
DTSTART;TZID=America/New_York:20260424T090000
DTEND;TZID=America/New_York:20260424T150000
DTSTAMP:20260423T170453
CREATED:20250609T191804Z
LAST-MODIFIED:20250609T191807Z
UID:10002518-1777021200-1777042800@stmatthewsbrecksville.org
SUMMARY:Discovery School
DESCRIPTION:
URL:https://stmatthewsbrecksville.org/event/discovery-school-31/
END:VEVENT
BEGIN:VEVENT
DTSTART;TZID=America/New_York:20260426T083000
DTEND;TZID=America/New_York:20260426T083000
DTSTAMP:20260423T170453
CREATED:20241202T163737Z
LAST-MODIFIED:20241202T164005Z
UID:10002000-1777192200-1777192200@stmatthewsbrecksville.org
SUMMARY:Worship Service
DESCRIPTION:
URL:https://stmatthewsbrecksville.org/event/worship-service/2026-04-26/
END:VEVENT
BEGIN:VEVENT
DTSTART;TZID=America/New_York:20260426T100000
DTEND;TZID=America/New_York:20260426T100000
DTSTAMP:20260423T170453
CREATED:20240731T145240Z
LAST-MODIFIED:20240731T145240Z
UID:10001694-1777197600-1777197600@stmatthewsbrecksville.org
SUMMARY:Worship Service
DESCRIPTION:
URL:https://stmatthewsbrecksville.org/event/worship-service-5/2026-04-26/
LOCATION:St. Matthew’s Episcopal Church\, 9549 Highland Drive\, Brecksville\, OH\, 44141\, United States
CATEGORIES:Worship
END:VEVENT
BEGIN:VEVENT
DTSTART;TZID=America/New_York:20260427T180000
DTEND;TZID=America/New_York:20260427T210000
DTSTAMP:20260423T170453
CREATED:20240724T184002Z
LAST-MODIFIED:20240724T191716Z
UID:10000455-1777312800-1777323600@stmatthewsbrecksville.org
SUMMARY:Shriners Legion of Honor
DESCRIPTION:
URL:https://stmatthewsbrecksville.org/event/shriners-legion-of-honor/2026-04-27/
LOCATION:St. Matthew’s Episcopal Church\, 9549 Highland Drive\, Brecksville\, OH\, 44141\, United States
CATEGORIES:Shriners
END:VEVENT
BEGIN:VEVENT
DTSTART;TZID=America/New_York:20260429T090000
DTEND;TZID=America/New_York:20260429T150000
DTSTAMP:20260423T170453
CREATED:20250609T191907Z
LAST-MODIFIED:20250609T191910Z
UID:10002519-1777453200-1777474800@stmatthewsbrecksville.org
SUMMARY:Discovery School
DESCRIPTION:
URL:https://stmatthewsbrecksville.org/event/discovery-school-32/
END:VEVENT
BEGIN:VEVENT
DTSTART;TZID=America/New_York:20260429T170000
DTEND;TZID=America/New_York:20260429T210000
DTSTAMP:20260423T170453
CREATED:20240724T184122Z
LAST-MODIFIED:20240724T191853Z
UID:10000515-1777482000-1777496400@stmatthewsbrecksville.org
SUMMARY:Shriners Hillbillies
DESCRIPTION:
URL:https://stmatthewsbrecksville.org/event/shriners-hillbillies/2026-04-29/
LOCATION:St. Matthew’s Episcopal Church\, 9549 Highland Drive\, Brecksville\, OH\, 44141\, United States
CATEGORIES:Shriners
END:VEVENT
END:VCALENDAR