BEGIN:VCALENDAR
VERSION:2.0
PRODID:-//St. Matthew&#039;s Episcopal Church - ECPv6.11.0.1//NONSGML v1.0//EN
CALSCALE:GREGORIAN
METHOD:PUBLISH
X-WR-CALNAME:St. Matthew&#039;s Episcopal Church
X-ORIGINAL-URL:https://stmatthewsbrecksville.org
X-WR-CALDESC:Events for St. Matthew&#039;s Episcopal Church
REFRESH-INTERVAL;VALUE=DURATION:PT1H
X-Robots-Tag:noindex
X-PUBLISHED-TTL:PT1H
BEGIN:VTIMEZONE
TZID:America/New_York
BEGIN:DAYLIGHT
TZOFFSETFROM:-0500
TZOFFSETTO:-0400
TZNAME:EDT
DTSTART:20260308T070000
END:DAYLIGHT
BEGIN:STANDARD
TZOFFSETFROM:-0400
TZOFFSETTO:-0500
TZNAME:EST
DTSTART:20261101T060000
END:STANDARD
END:VTIMEZONE
BEGIN:VEVENT
DTSTART;TZID=America/New_York:20260426T083000
DTEND;TZID=America/New_York:20260426T083000
DTSTAMP:20260419T115403
CREATED:20241202T163737Z
LAST-MODIFIED:20241202T164005Z
UID:10002000-1777192200-1777192200@stmatthewsbrecksville.org
SUMMARY:Worship Service
DESCRIPTION:
URL:https://stmatthewsbrecksville.org/event/worship-service/2026-04-26/
END:VEVENT
BEGIN:VEVENT
DTSTART;TZID=America/New_York:20260503T083000
DTEND;TZID=America/New_York:20260503T083000
DTSTAMP:20260419T115403
CREATED:20241202T163737Z
LAST-MODIFIED:20241202T164005Z
UID:10002001-1777797000-1777797000@stmatthewsbrecksville.org
SUMMARY:Worship Service
DESCRIPTION:
URL:https://stmatthewsbrecksville.org/event/worship-service/2026-05-03/
END:VEVENT
BEGIN:VEVENT
DTSTART;TZID=America/New_York:20260510T083000
DTEND;TZID=America/New_York:20260510T083000
DTSTAMP:20260419T115403
CREATED:20241202T163737Z
LAST-MODIFIED:20241202T164005Z
UID:10002002-1778401800-1778401800@stmatthewsbrecksville.org
SUMMARY:Worship Service
DESCRIPTION:
URL:https://stmatthewsbrecksville.org/event/worship-service/2026-05-10/
END:VEVENT
BEGIN:VEVENT
DTSTART;TZID=America/New_York:20260517T083000
DTEND;TZID=America/New_York:20260517T083000
DTSTAMP:20260419T115403
CREATED:20241202T163737Z
LAST-MODIFIED:20241202T164005Z
UID:10002003-1779006600-1779006600@stmatthewsbrecksville.org
SUMMARY:Worship Service
DESCRIPTION:
URL:https://stmatthewsbrecksville.org/event/worship-service/2026-05-17/
END:VEVENT
BEGIN:VEVENT
DTSTART;TZID=America/New_York:20260524T083000
DTEND;TZID=America/New_York:20260524T083000
DTSTAMP:20260419T115403
CREATED:20241202T163737Z
LAST-MODIFIED:20241202T164005Z
UID:10002004-1779611400-1779611400@stmatthewsbrecksville.org
SUMMARY:Worship Service
DESCRIPTION:
URL:https://stmatthewsbrecksville.org/event/worship-service/2026-05-24/
END:VEVENT
BEGIN:VEVENT
DTSTART;TZID=America/New_York:20260531T083000
DTEND;TZID=America/New_York:20260531T083000
DTSTAMP:20260419T115403
CREATED:20241202T163737Z
LAST-MODIFIED:20241202T164005Z
UID:10002005-1780216200-1780216200@stmatthewsbrecksville.org
SUMMARY:Worship Service
DESCRIPTION:
URL:https://stmatthewsbrecksville.org/event/worship-service/2026-05-31/
END:VEVENT
BEGIN:VEVENT
DTSTART;TZID=America/New_York:20260607T083000
DTEND;TZID=America/New_York:20260607T083000
DTSTAMP:20260419T115403
CREATED:20241202T163737Z
LAST-MODIFIED:20241202T164005Z
UID:10002006-1780821000-1780821000@stmatthewsbrecksville.org
SUMMARY:Worship Service
DESCRIPTION:
URL:https://stmatthewsbrecksville.org/event/worship-service/2026-06-07/
END:VEVENT
BEGIN:VEVENT
DTSTART;TZID=America/New_York:20260614T083000
DTEND;TZID=America/New_York:20260614T083000
DTSTAMP:20260419T115403
CREATED:20241202T163737Z
LAST-MODIFIED:20241202T164005Z
UID:10002007-1781425800-1781425800@stmatthewsbrecksville.org
SUMMARY:Worship Service
DESCRIPTION:
URL:https://stmatthewsbrecksville.org/event/worship-service/2026-06-14/
END:VEVENT
BEGIN:VEVENT
DTSTART;TZID=America/New_York:20260621T083000
DTEND;TZID=America/New_York:20260621T083000
DTSTAMP:20260419T115403
CREATED:20241202T163737Z
LAST-MODIFIED:20241202T164005Z
UID:10002008-1782030600-1782030600@stmatthewsbrecksville.org
SUMMARY:Worship Service
DESCRIPTION:
URL:https://stmatthewsbrecksville.org/event/worship-service/2026-06-21/
END:VEVENT
BEGIN:VEVENT
DTSTART;TZID=America/New_York:20260628T083000
DTEND;TZID=America/New_York:20260628T083000
DTSTAMP:20260419T115403
CREATED:20241202T163737Z
LAST-MODIFIED:20241202T164005Z
UID:10002009-1782635400-1782635400@stmatthewsbrecksville.org
SUMMARY:Worship Service
DESCRIPTION:
URL:https://stmatthewsbrecksville.org/event/worship-service/2026-06-28/
END:VEVENT
BEGIN:VEVENT
DTSTART;TZID=America/New_York:20260705T083000
DTEND;TZID=America/New_York:20260705T083000
DTSTAMP:20260419T115403
CREATED:20241202T163737Z
LAST-MODIFIED:20241202T164005Z
UID:10002010-1783240200-1783240200@stmatthewsbrecksville.org
SUMMARY:Worship Service
DESCRIPTION:
URL:https://stmatthewsbrecksville.org/event/worship-service/2026-07-05/
END:VEVENT
BEGIN:VEVENT
DTSTART;TZID=America/New_York:20260712T083000
DTEND;TZID=America/New_York:20260712T083000
DTSTAMP:20260419T115403
CREATED:20241202T163737Z
LAST-MODIFIED:20241202T164005Z
UID:10002011-1783845000-1783845000@stmatthewsbrecksville.org
SUMMARY:Worship Service
DESCRIPTION:
URL:https://stmatthewsbrecksville.org/event/worship-service/2026-07-12/
END:VEVENT
BEGIN:VEVENT
DTSTART;TZID=America/New_York:20260719T083000
DTEND;TZID=America/New_York:20260719T083000
DTSTAMP:20260419T115403
CREATED:20241202T163737Z
LAST-MODIFIED:20241202T164005Z
UID:10002012-1784449800-1784449800@stmatthewsbrecksville.org
SUMMARY:Worship Service
DESCRIPTION:
URL:https://stmatthewsbrecksville.org/event/worship-service/2026-07-19/
END:VEVENT
BEGIN:VEVENT
DTSTART;TZID=America/New_York:20260726T083000
DTEND;TZID=America/New_York:20260726T083000
DTSTAMP:20260419T115403
CREATED:20241202T163737Z
LAST-MODIFIED:20241202T164005Z
UID:10002013-1785054600-1785054600@stmatthewsbrecksville.org
SUMMARY:Worship Service
DESCRIPTION:
URL:https://stmatthewsbrecksville.org/event/worship-service/2026-07-26/
END:VEVENT
BEGIN:VEVENT
DTSTART;TZID=America/New_York:20260802T083000
DTEND;TZID=America/New_York:20260802T083000
DTSTAMP:20260419T115403
CREATED:20241202T163737Z
LAST-MODIFIED:20241202T164005Z
UID:10002014-1785659400-1785659400@stmatthewsbrecksville.org
SUMMARY:Worship Service
DESCRIPTION:
URL:https://stmatthewsbrecksville.org/event/worship-service/2026-08-02/
END:VEVENT
BEGIN:VEVENT
DTSTART;TZID=America/New_York:20260809T083000
DTEND;TZID=America/New_York:20260809T083000
DTSTAMP:20260419T115403
CREATED:20241202T163737Z
LAST-MODIFIED:20241202T164005Z
UID:10002015-1786264200-1786264200@stmatthewsbrecksville.org
SUMMARY:Worship Service
DESCRIPTION:
URL:https://stmatthewsbrecksville.org/event/worship-service/2026-08-09/
END:VEVENT
BEGIN:VEVENT
DTSTART;TZID=America/New_York:20260816T083000
DTEND;TZID=America/New_York:20260816T083000
DTSTAMP:20260419T115404
CREATED:20241202T163737Z
LAST-MODIFIED:20241202T164005Z
UID:10002016-1786869000-1786869000@stmatthewsbrecksville.org
SUMMARY:Worship Service
DESCRIPTION:
URL:https://stmatthewsbrecksville.org/event/worship-service/2026-08-16/
END:VEVENT
BEGIN:VEVENT
DTSTART;TZID=America/New_York:20260823T083000
DTEND;TZID=America/New_York:20260823T083000
DTSTAMP:20260419T115404
CREATED:20241202T163737Z
LAST-MODIFIED:20241202T164005Z
UID:10002017-1787473800-1787473800@stmatthewsbrecksville.org
SUMMARY:Worship Service
DESCRIPTION:
URL:https://stmatthewsbrecksville.org/event/worship-service/2026-08-23/
END:VEVENT
BEGIN:VEVENT
DTSTART;TZID=America/New_York:20260830T083000
DTEND;TZID=America/New_York:20260830T083000
DTSTAMP:20260419T115404
CREATED:20241202T163737Z
LAST-MODIFIED:20241202T164005Z
UID:10002018-1788078600-1788078600@stmatthewsbrecksville.org
SUMMARY:Worship Service
DESCRIPTION:
URL:https://stmatthewsbrecksville.org/event/worship-service/2026-08-30/
END:VEVENT
BEGIN:VEVENT
DTSTART;TZID=America/New_York:20260906T083000
DTEND;TZID=America/New_York:20260906T083000
DTSTAMP:20260419T115404
CREATED:20241202T163737Z
LAST-MODIFIED:20241202T164005Z
UID:10002019-1788683400-1788683400@stmatthewsbrecksville.org
SUMMARY:Worship Service
DESCRIPTION:
URL:https://stmatthewsbrecksville.org/event/worship-service/2026-09-06/
END:VEVENT
BEGIN:VEVENT
DTSTART;TZID=America/New_York:20260913T083000
DTEND;TZID=America/New_York:20260913T083000
DTSTAMP:20260419T115404
CREATED:20241202T163737Z
LAST-MODIFIED:20241202T164005Z
UID:10002020-1789288200-1789288200@stmatthewsbrecksville.org
SUMMARY:Worship Service
DESCRIPTION:
URL:https://stmatthewsbrecksville.org/event/worship-service/2026-09-13/
END:VEVENT
BEGIN:VEVENT
DTSTART;TZID=America/New_York:20260920T083000
DTEND;TZID=America/New_York:20260920T083000
DTSTAMP:20260419T115404
CREATED:20241202T163737Z
LAST-MODIFIED:20241202T164005Z
UID:10002021-1789893000-1789893000@stmatthewsbrecksville.org
SUMMARY:Worship Service
DESCRIPTION:
URL:https://stmatthewsbrecksville.org/event/worship-service/2026-09-20/
END:VEVENT
BEGIN:VEVENT
DTSTART;TZID=America/New_York:20260927T083000
DTEND;TZID=America/New_York:20260927T083000
DTSTAMP:20260419T115404
CREATED:20241202T163737Z
LAST-MODIFIED:20241202T164005Z
UID:10002022-1790497800-1790497800@stmatthewsbrecksville.org
SUMMARY:Worship Service
DESCRIPTION:
URL:https://stmatthewsbrecksville.org/event/worship-service/2026-09-27/
END:VEVENT
BEGIN:VEVENT
DTSTART;TZID=America/New_York:20261004T083000
DTEND;TZID=America/New_York:20261004T083000
DTSTAMP:20260419T115404
CREATED:20241202T163737Z
LAST-MODIFIED:20241202T164005Z
UID:10002023-1791102600-1791102600@stmatthewsbrecksville.org
SUMMARY:Worship Service
DESCRIPTION:
URL:https://stmatthewsbrecksville.org/event/worship-service/2026-10-04/
END:VEVENT
BEGIN:VEVENT
DTSTART;TZID=America/New_York:20261011T083000
DTEND;TZID=America/New_York:20261011T083000
DTSTAMP:20260419T115404
CREATED:20241202T163737Z
LAST-MODIFIED:20241202T164005Z
UID:10002024-1791707400-1791707400@stmatthewsbrecksville.org
SUMMARY:Worship Service
DESCRIPTION:
URL:https://stmatthewsbrecksville.org/event/worship-service/2026-10-11/
END:VEVENT
BEGIN:VEVENT
DTSTART;TZID=America/New_York:20261018T083000
DTEND;TZID=America/New_York:20261018T083000
DTSTAMP:20260419T115404
CREATED:20241202T163737Z
LAST-MODIFIED:20241202T164005Z
UID:10002025-1792312200-1792312200@stmatthewsbrecksville.org
SUMMARY:Worship Service
DESCRIPTION:
URL:https://stmatthewsbrecksville.org/event/worship-service/2026-10-18/
END:VEVENT
BEGIN:VEVENT
DTSTART;TZID=America/New_York:20261025T083000
DTEND;TZID=America/New_York:20261025T083000
DTSTAMP:20260419T115404
CREATED:20241202T163737Z
LAST-MODIFIED:20241202T164005Z
UID:10002026-1792917000-1792917000@stmatthewsbrecksville.org
SUMMARY:Worship Service
DESCRIPTION:
URL:https://stmatthewsbrecksville.org/event/worship-service/2026-10-25/
END:VEVENT
BEGIN:VEVENT
DTSTART;TZID=America/New_York:20261101T083000
DTEND;TZID=America/New_York:20261101T083000
DTSTAMP:20260419T115404
CREATED:20241202T163737Z
LAST-MODIFIED:20241202T164005Z
UID:10002027-1793521800-1793521800@stmatthewsbrecksville.org
SUMMARY:Worship Service
DESCRIPTION:
URL:https://stmatthewsbrecksville.org/event/worship-service/2026-11-01/
END:VEVENT
BEGIN:VEVENT
DTSTART;TZID=America/New_York:20261108T083000
DTEND;TZID=America/New_York:20261108T083000
DTSTAMP:20260419T115404
CREATED:20241202T163737Z
LAST-MODIFIED:20241202T164005Z
UID:10002028-1794126600-1794126600@stmatthewsbrecksville.org
SUMMARY:Worship Service
DESCRIPTION:
URL:https://stmatthewsbrecksville.org/event/worship-service/2026-11-08/
END:VEVENT
BEGIN:VEVENT
DTSTART;TZID=America/New_York:20261115T083000
DTEND;TZID=America/New_York:20261115T083000
DTSTAMP:20260419T115404
CREATED:20241202T163737Z
LAST-MODIFIED:20241202T164005Z
UID:10002029-1794731400-1794731400@stmatthewsbrecksville.org
SUMMARY:Worship Service
DESCRIPTION:
URL:https://stmatthewsbrecksville.org/event/worship-service/2026-11-15/
END:VEVENT
END:VCALENDAR