BEGIN:VCALENDAR
VERSION:2.0
PRODID:-//St. Matthew&#039;s Episcopal Church - ECPv6.11.0.1//NONSGML v1.0//EN
CALSCALE:GREGORIAN
METHOD:PUBLISH
X-ORIGINAL-URL:https://stmatthewsbrecksville.org
X-WR-CALDESC:Events for St. Matthew&#039;s Episcopal Church
REFRESH-INTERVAL;VALUE=DURATION:PT1H
X-Robots-Tag:noindex
X-PUBLISHED-TTL:PT1H
BEGIN:VTIMEZONE
TZID:America/New_York
BEGIN:DAYLIGHT
TZOFFSETFROM:-0500
TZOFFSETTO:-0400
TZNAME:EDT
DTSTART:20260308T070000
END:DAYLIGHT
BEGIN:STANDARD
TZOFFSETFROM:-0400
TZOFFSETTO:-0500
TZNAME:EST
DTSTART:20261101T060000
END:STANDARD
BEGIN:DAYLIGHT
TZOFFSETFROM:-0500
TZOFFSETTO:-0400
TZNAME:EDT
DTSTART:20270314T070000
END:DAYLIGHT
BEGIN:STANDARD
TZOFFSETFROM:-0400
TZOFFSETTO:-0500
TZNAME:EST
DTSTART:20271107T060000
END:STANDARD
END:VTIMEZONE
BEGIN:VEVENT
DTSTART;TZID=America/New_York:20261011T083000
DTEND;TZID=America/New_York:20261011T083000
DTSTAMP:20260425T073435
CREATED:20241202T163737Z
LAST-MODIFIED:20241202T164005Z
UID:10002024-1791707400-1791707400@stmatthewsbrecksville.org
SUMMARY:Worship Service
DESCRIPTION:
URL:https://stmatthewsbrecksville.org/event/worship-service/2026-10-11/
END:VEVENT
BEGIN:VEVENT
DTSTART;TZID=America/New_York:20261018T083000
DTEND;TZID=America/New_York:20261018T083000
DTSTAMP:20260425T073435
CREATED:20241202T163737Z
LAST-MODIFIED:20241202T164005Z
UID:10002025-1792312200-1792312200@stmatthewsbrecksville.org
SUMMARY:Worship Service
DESCRIPTION:
URL:https://stmatthewsbrecksville.org/event/worship-service/2026-10-18/
END:VEVENT
BEGIN:VEVENT
DTSTART;TZID=America/New_York:20261025T083000
DTEND;TZID=America/New_York:20261025T083000
DTSTAMP:20260425T073435
CREATED:20241202T163737Z
LAST-MODIFIED:20241202T164005Z
UID:10002026-1792917000-1792917000@stmatthewsbrecksville.org
SUMMARY:Worship Service
DESCRIPTION:
URL:https://stmatthewsbrecksville.org/event/worship-service/2026-10-25/
END:VEVENT
BEGIN:VEVENT
DTSTART;TZID=America/New_York:20261101T083000
DTEND;TZID=America/New_York:20261101T083000
DTSTAMP:20260425T073435
CREATED:20241202T163737Z
LAST-MODIFIED:20241202T164005Z
UID:10002027-1793521800-1793521800@stmatthewsbrecksville.org
SUMMARY:Worship Service
DESCRIPTION:
URL:https://stmatthewsbrecksville.org/event/worship-service/2026-11-01/
END:VEVENT
BEGIN:VEVENT
DTSTART;TZID=America/New_York:20261108T083000
DTEND;TZID=America/New_York:20261108T083000
DTSTAMP:20260425T073435
CREATED:20241202T163737Z
LAST-MODIFIED:20241202T164005Z
UID:10002028-1794126600-1794126600@stmatthewsbrecksville.org
SUMMARY:Worship Service
DESCRIPTION:
URL:https://stmatthewsbrecksville.org/event/worship-service/2026-11-08/
END:VEVENT
BEGIN:VEVENT
DTSTART;TZID=America/New_York:20261115T083000
DTEND;TZID=America/New_York:20261115T083000
DTSTAMP:20260425T073435
CREATED:20241202T163737Z
LAST-MODIFIED:20241202T164005Z
UID:10002029-1794731400-1794731400@stmatthewsbrecksville.org
SUMMARY:Worship Service
DESCRIPTION:
URL:https://stmatthewsbrecksville.org/event/worship-service/2026-11-15/
END:VEVENT
BEGIN:VEVENT
DTSTART;TZID=America/New_York:20261122T083000
DTEND;TZID=America/New_York:20261122T083000
DTSTAMP:20260425T073435
CREATED:20241202T163737Z
LAST-MODIFIED:20241202T164005Z
UID:10002030-1795336200-1795336200@stmatthewsbrecksville.org
SUMMARY:Worship Service
DESCRIPTION:
URL:https://stmatthewsbrecksville.org/event/worship-service/2026-11-22/
END:VEVENT
BEGIN:VEVENT
DTSTART;TZID=America/New_York:20261129T083000
DTEND;TZID=America/New_York:20261129T083000
DTSTAMP:20260425T073435
CREATED:20241202T163737Z
LAST-MODIFIED:20241202T164005Z
UID:10002031-1795941000-1795941000@stmatthewsbrecksville.org
SUMMARY:Worship Service
DESCRIPTION:
URL:https://stmatthewsbrecksville.org/event/worship-service/2026-11-29/
END:VEVENT
BEGIN:VEVENT
DTSTART;TZID=America/New_York:20261206T083000
DTEND;TZID=America/New_York:20261206T083000
DTSTAMP:20260425T073435
CREATED:20241202T163737Z
LAST-MODIFIED:20241202T164005Z
UID:10002032-1796545800-1796545800@stmatthewsbrecksville.org
SUMMARY:Worship Service
DESCRIPTION:
URL:https://stmatthewsbrecksville.org/event/worship-service/2026-12-06/
END:VEVENT
BEGIN:VEVENT
DTSTART;TZID=America/New_York:20261213T083000
DTEND;TZID=America/New_York:20261213T083000
DTSTAMP:20260425T073435
CREATED:20241202T163737Z
LAST-MODIFIED:20241202T164005Z
UID:10002033-1797150600-1797150600@stmatthewsbrecksville.org
SUMMARY:Worship Service
DESCRIPTION:
URL:https://stmatthewsbrecksville.org/event/worship-service/2026-12-13/
END:VEVENT
BEGIN:VEVENT
DTSTART;TZID=America/New_York:20261220T083000
DTEND;TZID=America/New_York:20261220T083000
DTSTAMP:20260425T073435
CREATED:20241202T163737Z
LAST-MODIFIED:20241202T164005Z
UID:10002034-1797755400-1797755400@stmatthewsbrecksville.org
SUMMARY:Worship Service
DESCRIPTION:
URL:https://stmatthewsbrecksville.org/event/worship-service/2026-12-20/
END:VEVENT
BEGIN:VEVENT
DTSTART;TZID=America/New_York:20261227T083000
DTEND;TZID=America/New_York:20261227T083000
DTSTAMP:20260425T073435
CREATED:20241202T163737Z
LAST-MODIFIED:20241202T164005Z
UID:10002035-1798360200-1798360200@stmatthewsbrecksville.org
SUMMARY:Worship Service
DESCRIPTION:
URL:https://stmatthewsbrecksville.org/event/worship-service/2026-12-27/
END:VEVENT
BEGIN:VEVENT
DTSTART;TZID=America/New_York:20270103T083000
DTEND;TZID=America/New_York:20270103T083000
DTSTAMP:20260425T073435
CREATED:20241202T163737Z
LAST-MODIFIED:20241202T164005Z
UID:10002036-1798965000-1798965000@stmatthewsbrecksville.org
SUMMARY:Worship Service
DESCRIPTION:
URL:https://stmatthewsbrecksville.org/event/worship-service/2027-01-03/
END:VEVENT
BEGIN:VEVENT
DTSTART;TZID=America/New_York:20270110T083000
DTEND;TZID=America/New_York:20270110T083000
DTSTAMP:20260425T073435
CREATED:20241202T163737Z
LAST-MODIFIED:20241202T164005Z
UID:10002037-1799569800-1799569800@stmatthewsbrecksville.org
SUMMARY:Worship Service
DESCRIPTION:
URL:https://stmatthewsbrecksville.org/event/worship-service/2027-01-10/
END:VEVENT
BEGIN:VEVENT
DTSTART;TZID=America/New_York:20270117T083000
DTEND;TZID=America/New_York:20270117T083000
DTSTAMP:20260425T073435
CREATED:20241202T163737Z
LAST-MODIFIED:20241202T164005Z
UID:10002038-1800174600-1800174600@stmatthewsbrecksville.org
SUMMARY:Worship Service
DESCRIPTION:
URL:https://stmatthewsbrecksville.org/event/worship-service/2027-01-17/
END:VEVENT
BEGIN:VEVENT
DTSTART;TZID=America/New_York:20270124T083000
DTEND;TZID=America/New_York:20270124T083000
DTSTAMP:20260425T073435
CREATED:20241202T163737Z
LAST-MODIFIED:20241202T164005Z
UID:10002039-1800779400-1800779400@stmatthewsbrecksville.org
SUMMARY:Worship Service
DESCRIPTION:
URL:https://stmatthewsbrecksville.org/event/worship-service/2027-01-24/
END:VEVENT
BEGIN:VEVENT
DTSTART;TZID=America/New_York:20270131T083000
DTEND;TZID=America/New_York:20270131T083000
DTSTAMP:20260425T073435
CREATED:20241202T163737Z
LAST-MODIFIED:20241202T164005Z
UID:10002040-1801384200-1801384200@stmatthewsbrecksville.org
SUMMARY:Worship Service
DESCRIPTION:
URL:https://stmatthewsbrecksville.org/event/worship-service/2027-01-31/
END:VEVENT
BEGIN:VEVENT
DTSTART;TZID=America/New_York:20270207T083000
DTEND;TZID=America/New_York:20270207T083000
DTSTAMP:20260425T073435
CREATED:20241202T163737Z
LAST-MODIFIED:20241202T164005Z
UID:10002041-1801989000-1801989000@stmatthewsbrecksville.org
SUMMARY:Worship Service
DESCRIPTION:
URL:https://stmatthewsbrecksville.org/event/worship-service/2027-02-07/
END:VEVENT
BEGIN:VEVENT
DTSTART;TZID=America/New_York:20270214T083000
DTEND;TZID=America/New_York:20270214T083000
DTSTAMP:20260425T073435
CREATED:20241202T163737Z
LAST-MODIFIED:20241202T164005Z
UID:10002042-1802593800-1802593800@stmatthewsbrecksville.org
SUMMARY:Worship Service
DESCRIPTION:
URL:https://stmatthewsbrecksville.org/event/worship-service/2027-02-14/
END:VEVENT
BEGIN:VEVENT
DTSTART;TZID=America/New_York:20270221T083000
DTEND;TZID=America/New_York:20270221T083000
DTSTAMP:20260425T073435
CREATED:20241202T163737Z
LAST-MODIFIED:20241202T164005Z
UID:10002043-1803198600-1803198600@stmatthewsbrecksville.org
SUMMARY:Worship Service
DESCRIPTION:
URL:https://stmatthewsbrecksville.org/event/worship-service/2027-02-21/
END:VEVENT
BEGIN:VEVENT
DTSTART;TZID=America/New_York:20270228T083000
DTEND;TZID=America/New_York:20270228T083000
DTSTAMP:20260425T073435
CREATED:20241202T163737Z
LAST-MODIFIED:20241202T164005Z
UID:10002044-1803803400-1803803400@stmatthewsbrecksville.org
SUMMARY:Worship Service
DESCRIPTION:
URL:https://stmatthewsbrecksville.org/event/worship-service/2027-02-28/
END:VEVENT
BEGIN:VEVENT
DTSTART;TZID=America/New_York:20270307T083000
DTEND;TZID=America/New_York:20270307T083000
DTSTAMP:20260425T073435
CREATED:20241202T163737Z
LAST-MODIFIED:20241202T164005Z
UID:10002045-1804408200-1804408200@stmatthewsbrecksville.org
SUMMARY:Worship Service
DESCRIPTION:
URL:https://stmatthewsbrecksville.org/event/worship-service/2027-03-07/
END:VEVENT
BEGIN:VEVENT
DTSTART;TZID=America/New_York:20270314T083000
DTEND;TZID=America/New_York:20270314T083000
DTSTAMP:20260425T073435
CREATED:20241202T163737Z
LAST-MODIFIED:20241202T164005Z
UID:10002046-1805013000-1805013000@stmatthewsbrecksville.org
SUMMARY:Worship Service
DESCRIPTION:
URL:https://stmatthewsbrecksville.org/event/worship-service/2027-03-14/
END:VEVENT
BEGIN:VEVENT
DTSTART;TZID=America/New_York:20270321T083000
DTEND;TZID=America/New_York:20270321T083000
DTSTAMP:20260425T073435
CREATED:20241202T163737Z
LAST-MODIFIED:20241202T164005Z
UID:10002047-1805617800-1805617800@stmatthewsbrecksville.org
SUMMARY:Worship Service
DESCRIPTION:
URL:https://stmatthewsbrecksville.org/event/worship-service/2027-03-21/
END:VEVENT
BEGIN:VEVENT
DTSTART;TZID=America/New_York:20270328T083000
DTEND;TZID=America/New_York:20270328T083000
DTSTAMP:20260425T073435
CREATED:20241202T163737Z
LAST-MODIFIED:20241202T164005Z
UID:10002048-1806222600-1806222600@stmatthewsbrecksville.org
SUMMARY:Worship Service
DESCRIPTION:
URL:https://stmatthewsbrecksville.org/event/worship-service/2027-03-28/
END:VEVENT
BEGIN:VEVENT
DTSTART;TZID=America/New_York:20270404T083000
DTEND;TZID=America/New_York:20270404T083000
DTSTAMP:20260425T073435
CREATED:20241202T163737Z
LAST-MODIFIED:20241202T164005Z
UID:10002049-1806827400-1806827400@stmatthewsbrecksville.org
SUMMARY:Worship Service
DESCRIPTION:
URL:https://stmatthewsbrecksville.org/event/worship-service/2027-04-04/
END:VEVENT
BEGIN:VEVENT
DTSTART;TZID=America/New_York:20270411T083000
DTEND;TZID=America/New_York:20270411T083000
DTSTAMP:20260425T073435
CREATED:20241202T163737Z
LAST-MODIFIED:20241202T164005Z
UID:10002050-1807432200-1807432200@stmatthewsbrecksville.org
SUMMARY:Worship Service
DESCRIPTION:
URL:https://stmatthewsbrecksville.org/event/worship-service/2027-04-11/
END:VEVENT
BEGIN:VEVENT
DTSTART;TZID=America/New_York:20270418T083000
DTEND;TZID=America/New_York:20270418T083000
DTSTAMP:20260425T073435
CREATED:20241202T163737Z
LAST-MODIFIED:20241202T164005Z
UID:10002051-1808037000-1808037000@stmatthewsbrecksville.org
SUMMARY:Worship Service
DESCRIPTION:
URL:https://stmatthewsbrecksville.org/event/worship-service/2027-04-18/
END:VEVENT
BEGIN:VEVENT
DTSTART;TZID=America/New_York:20270425T083000
DTEND;TZID=America/New_York:20270425T083000
DTSTAMP:20260425T073435
CREATED:20241202T163737Z
LAST-MODIFIED:20241202T164005Z
UID:10002052-1808641800-1808641800@stmatthewsbrecksville.org
SUMMARY:Worship Service
DESCRIPTION:
URL:https://stmatthewsbrecksville.org/event/worship-service/2027-04-25/
END:VEVENT
BEGIN:VEVENT
DTSTART;TZID=America/New_York:20270502T083000
DTEND;TZID=America/New_York:20270502T083000
DTSTAMP:20260425T073435
CREATED:20241202T163737Z
LAST-MODIFIED:20241202T164005Z
UID:10002053-1809246600-1809246600@stmatthewsbrecksville.org
SUMMARY:Worship Service
DESCRIPTION:
URL:https://stmatthewsbrecksville.org/event/worship-service/2027-05-02/
END:VEVENT
END:VCALENDAR