BEGIN:VCALENDAR
VERSION:2.0
PRODID:-//St. Matthew&#039;s Episcopal Church - ECPv6.11.0.1//NONSGML v1.0//EN
CALSCALE:GREGORIAN
METHOD:PUBLISH
X-WR-CALNAME:St. Matthew&#039;s Episcopal Church
X-ORIGINAL-URL:https://stmatthewsbrecksville.org
X-WR-CALDESC:Events for St. Matthew&#039;s Episcopal Church
REFRESH-INTERVAL;VALUE=DURATION:PT1H
X-Robots-Tag:noindex
X-PUBLISHED-TTL:PT1H
BEGIN:VTIMEZONE
TZID:America/New_York
BEGIN:DAYLIGHT
TZOFFSETFROM:-0500
TZOFFSETTO:-0400
TZNAME:EDT
DTSTART:20270314T070000
END:DAYLIGHT
BEGIN:STANDARD
TZOFFSETFROM:-0400
TZOFFSETTO:-0500
TZNAME:EST
DTSTART:20271107T060000
END:STANDARD
END:VTIMEZONE
BEGIN:VEVENT
DTSTART;TZID=America/New_York:20270328T083000
DTEND;TZID=America/New_York:20270328T083000
DTSTAMP:20260425T110033
CREATED:20241202T163737Z
LAST-MODIFIED:20241202T164005Z
UID:10002048-1806222600-1806222600@stmatthewsbrecksville.org
SUMMARY:Worship Service
DESCRIPTION:
URL:https://stmatthewsbrecksville.org/event/worship-service/2027-03-28/
END:VEVENT
BEGIN:VEVENT
DTSTART;TZID=America/New_York:20270404T083000
DTEND;TZID=America/New_York:20270404T083000
DTSTAMP:20260425T110033
CREATED:20241202T163737Z
LAST-MODIFIED:20241202T164005Z
UID:10002049-1806827400-1806827400@stmatthewsbrecksville.org
SUMMARY:Worship Service
DESCRIPTION:
URL:https://stmatthewsbrecksville.org/event/worship-service/2027-04-04/
END:VEVENT
BEGIN:VEVENT
DTSTART;TZID=America/New_York:20270411T083000
DTEND;TZID=America/New_York:20270411T083000
DTSTAMP:20260425T110033
CREATED:20241202T163737Z
LAST-MODIFIED:20241202T164005Z
UID:10002050-1807432200-1807432200@stmatthewsbrecksville.org
SUMMARY:Worship Service
DESCRIPTION:
URL:https://stmatthewsbrecksville.org/event/worship-service/2027-04-11/
END:VEVENT
BEGIN:VEVENT
DTSTART;TZID=America/New_York:20270418T083000
DTEND;TZID=America/New_York:20270418T083000
DTSTAMP:20260425T110033
CREATED:20241202T163737Z
LAST-MODIFIED:20241202T164005Z
UID:10002051-1808037000-1808037000@stmatthewsbrecksville.org
SUMMARY:Worship Service
DESCRIPTION:
URL:https://stmatthewsbrecksville.org/event/worship-service/2027-04-18/
END:VEVENT
BEGIN:VEVENT
DTSTART;TZID=America/New_York:20270425T083000
DTEND;TZID=America/New_York:20270425T083000
DTSTAMP:20260425T110033
CREATED:20241202T163737Z
LAST-MODIFIED:20241202T164005Z
UID:10002052-1808641800-1808641800@stmatthewsbrecksville.org
SUMMARY:Worship Service
DESCRIPTION:
URL:https://stmatthewsbrecksville.org/event/worship-service/2027-04-25/
END:VEVENT
BEGIN:VEVENT
DTSTART;TZID=America/New_York:20270502T083000
DTEND;TZID=America/New_York:20270502T083000
DTSTAMP:20260425T110033
CREATED:20241202T163737Z
LAST-MODIFIED:20241202T164005Z
UID:10002053-1809246600-1809246600@stmatthewsbrecksville.org
SUMMARY:Worship Service
DESCRIPTION:
URL:https://stmatthewsbrecksville.org/event/worship-service/2027-05-02/
END:VEVENT
BEGIN:VEVENT
DTSTART;TZID=America/New_York:20270509T083000
DTEND;TZID=America/New_York:20270509T083000
DTSTAMP:20260425T110033
CREATED:20241202T163737Z
LAST-MODIFIED:20241202T164005Z
UID:10002054-1809851400-1809851400@stmatthewsbrecksville.org
SUMMARY:Worship Service
DESCRIPTION:
URL:https://stmatthewsbrecksville.org/event/worship-service/2027-05-09/
END:VEVENT
BEGIN:VEVENT
DTSTART;TZID=America/New_York:20270516T083000
DTEND;TZID=America/New_York:20270516T083000
DTSTAMP:20260425T110033
CREATED:20241202T163737Z
LAST-MODIFIED:20241202T164005Z
UID:10002055-1810456200-1810456200@stmatthewsbrecksville.org
SUMMARY:Worship Service
DESCRIPTION:
URL:https://stmatthewsbrecksville.org/event/worship-service/2027-05-16/
END:VEVENT
BEGIN:VEVENT
DTSTART;TZID=America/New_York:20270523T083000
DTEND;TZID=America/New_York:20270523T083000
DTSTAMP:20260425T110033
CREATED:20241202T163737Z
LAST-MODIFIED:20241202T164005Z
UID:10002056-1811061000-1811061000@stmatthewsbrecksville.org
SUMMARY:Worship Service
DESCRIPTION:
URL:https://stmatthewsbrecksville.org/event/worship-service/2027-05-23/
END:VEVENT
BEGIN:VEVENT
DTSTART;TZID=America/New_York:20270530T083000
DTEND;TZID=America/New_York:20270530T083000
DTSTAMP:20260425T110033
CREATED:20241202T163737Z
LAST-MODIFIED:20241202T164005Z
UID:10002057-1811665800-1811665800@stmatthewsbrecksville.org
SUMMARY:Worship Service
DESCRIPTION:
URL:https://stmatthewsbrecksville.org/event/worship-service/2027-05-30/
END:VEVENT
BEGIN:VEVENT
DTSTART;TZID=America/New_York:20270606T083000
DTEND;TZID=America/New_York:20270606T083000
DTSTAMP:20260425T110033
CREATED:20241202T163737Z
LAST-MODIFIED:20241202T164005Z
UID:10002058-1812270600-1812270600@stmatthewsbrecksville.org
SUMMARY:Worship Service
DESCRIPTION:
URL:https://stmatthewsbrecksville.org/event/worship-service/2027-06-06/
END:VEVENT
BEGIN:VEVENT
DTSTART;TZID=America/New_York:20270613T083000
DTEND;TZID=America/New_York:20270613T083000
DTSTAMP:20260425T110033
CREATED:20241202T163737Z
LAST-MODIFIED:20241202T164005Z
UID:10002059-1812875400-1812875400@stmatthewsbrecksville.org
SUMMARY:Worship Service
DESCRIPTION:
URL:https://stmatthewsbrecksville.org/event/worship-service/2027-06-13/
END:VEVENT
BEGIN:VEVENT
DTSTART;TZID=America/New_York:20270620T083000
DTEND;TZID=America/New_York:20270620T083000
DTSTAMP:20260425T110033
CREATED:20241202T163737Z
LAST-MODIFIED:20241202T164005Z
UID:10003012-1813480200-1813480200@stmatthewsbrecksville.org
SUMMARY:Worship Service
DESCRIPTION:
URL:https://stmatthewsbrecksville.org/event/worship-service/2027-06-20/
END:VEVENT
BEGIN:VEVENT
DTSTART;TZID=America/New_York:20270627T083000
DTEND;TZID=America/New_York:20270627T083000
DTSTAMP:20260425T110033
CREATED:20241202T163737Z
LAST-MODIFIED:20241202T164005Z
UID:10003015-1814085000-1814085000@stmatthewsbrecksville.org
SUMMARY:Worship Service
DESCRIPTION:
URL:https://stmatthewsbrecksville.org/event/worship-service/2027-06-27/
END:VEVENT
BEGIN:VEVENT
DTSTART;TZID=America/New_York:20270704T083000
DTEND;TZID=America/New_York:20270704T083000
DTSTAMP:20260425T110033
CREATED:20241202T163737Z
LAST-MODIFIED:20241202T164005Z
UID:10003019-1814689800-1814689800@stmatthewsbrecksville.org
SUMMARY:Worship Service
DESCRIPTION:
URL:https://stmatthewsbrecksville.org/event/worship-service/2027-07-04/
END:VEVENT
BEGIN:VEVENT
DTSTART;TZID=America/New_York:20270711T083000
DTEND;TZID=America/New_York:20270711T083000
DTSTAMP:20260425T110033
CREATED:20241202T163737Z
LAST-MODIFIED:20241202T164005Z
UID:10003029-1815294600-1815294600@stmatthewsbrecksville.org
SUMMARY:Worship Service
DESCRIPTION:
URL:https://stmatthewsbrecksville.org/event/worship-service/2027-07-11/
END:VEVENT
BEGIN:VEVENT
DTSTART;TZID=America/New_York:20270718T083000
DTEND;TZID=America/New_York:20270718T083000
DTSTAMP:20260425T110033
CREATED:20241202T163737Z
LAST-MODIFIED:20241202T164005Z
UID:10003034-1815899400-1815899400@stmatthewsbrecksville.org
SUMMARY:Worship Service
DESCRIPTION:
URL:https://stmatthewsbrecksville.org/event/worship-service/2027-07-18/
END:VEVENT
BEGIN:VEVENT
DTSTART;TZID=America/New_York:20270725T083000
DTEND;TZID=America/New_York:20270725T083000
DTSTAMP:20260425T110033
CREATED:20241202T163737Z
LAST-MODIFIED:20241202T164005Z
UID:10003037-1816504200-1816504200@stmatthewsbrecksville.org
SUMMARY:Worship Service
DESCRIPTION:
URL:https://stmatthewsbrecksville.org/event/worship-service/2027-07-25/
END:VEVENT
BEGIN:VEVENT
DTSTART;TZID=America/New_York:20270801T083000
DTEND;TZID=America/New_York:20270801T083000
DTSTAMP:20260425T110033
CREATED:20241202T163737Z
LAST-MODIFIED:20241202T164005Z
UID:10003043-1817109000-1817109000@stmatthewsbrecksville.org
SUMMARY:Worship Service
DESCRIPTION:
URL:https://stmatthewsbrecksville.org/event/worship-service/2027-08-01/
END:VEVENT
BEGIN:VEVENT
DTSTART;TZID=America/New_York:20270808T083000
DTEND;TZID=America/New_York:20270808T083000
DTSTAMP:20260425T110033
CREATED:20241202T163737Z
LAST-MODIFIED:20241202T164005Z
UID:10003047-1817713800-1817713800@stmatthewsbrecksville.org
SUMMARY:Worship Service
DESCRIPTION:
URL:https://stmatthewsbrecksville.org/event/worship-service/2027-08-08/
END:VEVENT
BEGIN:VEVENT
DTSTART;TZID=America/New_York:20270815T083000
DTEND;TZID=America/New_York:20270815T083000
DTSTAMP:20260425T110033
CREATED:20241202T163737Z
LAST-MODIFIED:20241202T164005Z
UID:10003052-1818318600-1818318600@stmatthewsbrecksville.org
SUMMARY:Worship Service
DESCRIPTION:
URL:https://stmatthewsbrecksville.org/event/worship-service/2027-08-15/
END:VEVENT
BEGIN:VEVENT
DTSTART;TZID=America/New_York:20270822T083000
DTEND;TZID=America/New_York:20270822T083000
DTSTAMP:20260425T110033
CREATED:20241202T163737Z
LAST-MODIFIED:20241202T164005Z
UID:10003055-1818923400-1818923400@stmatthewsbrecksville.org
SUMMARY:Worship Service
DESCRIPTION:
URL:https://stmatthewsbrecksville.org/event/worship-service/2027-08-22/
END:VEVENT
BEGIN:VEVENT
DTSTART;TZID=America/New_York:20270829T083000
DTEND;TZID=America/New_York:20270829T083000
DTSTAMP:20260425T110033
CREATED:20241202T163737Z
LAST-MODIFIED:20241202T164005Z
UID:10003060-1819528200-1819528200@stmatthewsbrecksville.org
SUMMARY:Worship Service
DESCRIPTION:
URL:https://stmatthewsbrecksville.org/event/worship-service/2027-08-29/
END:VEVENT
BEGIN:VEVENT
DTSTART;TZID=America/New_York:20270905T083000
DTEND;TZID=America/New_York:20270905T083000
DTSTAMP:20260425T110033
CREATED:20241202T163737Z
LAST-MODIFIED:20241202T164005Z
UID:10003064-1820133000-1820133000@stmatthewsbrecksville.org
SUMMARY:Worship Service
DESCRIPTION:
URL:https://stmatthewsbrecksville.org/event/worship-service/2027-09-05/
END:VEVENT
BEGIN:VEVENT
DTSTART;TZID=America/New_York:20270912T083000
DTEND;TZID=America/New_York:20270912T083000
DTSTAMP:20260425T110033
CREATED:20241202T163737Z
LAST-MODIFIED:20241202T164005Z
UID:10003070-1820737800-1820737800@stmatthewsbrecksville.org
SUMMARY:Worship Service
DESCRIPTION:
URL:https://stmatthewsbrecksville.org/event/worship-service/2027-09-12/
END:VEVENT
BEGIN:VEVENT
DTSTART;TZID=America/New_York:20270919T083000
DTEND;TZID=America/New_York:20270919T083000
DTSTAMP:20260425T110033
CREATED:20241202T163737Z
LAST-MODIFIED:20241202T164005Z
UID:10003073-1821342600-1821342600@stmatthewsbrecksville.org
SUMMARY:Worship Service
DESCRIPTION:
URL:https://stmatthewsbrecksville.org/event/worship-service/2027-09-19/
END:VEVENT
BEGIN:VEVENT
DTSTART;TZID=America/New_York:20270926T083000
DTEND;TZID=America/New_York:20270926T083000
DTSTAMP:20260425T110033
CREATED:20241202T163737Z
LAST-MODIFIED:20241202T164005Z
UID:10003081-1821947400-1821947400@stmatthewsbrecksville.org
SUMMARY:Worship Service
DESCRIPTION:
URL:https://stmatthewsbrecksville.org/event/worship-service/2027-09-26/
END:VEVENT
BEGIN:VEVENT
DTSTART;TZID=America/New_York:20271003T083000
DTEND;TZID=America/New_York:20271003T083000
DTSTAMP:20260425T110033
CREATED:20241202T163737Z
LAST-MODIFIED:20241202T164005Z
UID:10003085-1822552200-1822552200@stmatthewsbrecksville.org
SUMMARY:Worship Service
DESCRIPTION:
URL:https://stmatthewsbrecksville.org/event/worship-service/2027-10-03/
END:VEVENT
BEGIN:VEVENT
DTSTART;TZID=America/New_York:20271010T083000
DTEND;TZID=America/New_York:20271010T083000
DTSTAMP:20260425T110033
CREATED:20241202T163737Z
LAST-MODIFIED:20241202T164005Z
UID:10003089-1823157000-1823157000@stmatthewsbrecksville.org
SUMMARY:Worship Service
DESCRIPTION:
URL:https://stmatthewsbrecksville.org/event/worship-service/2027-10-10/
END:VEVENT
BEGIN:VEVENT
DTSTART;TZID=America/New_York:20271017T083000
DTEND;TZID=America/New_York:20271017T083000
DTSTAMP:20260425T110033
CREATED:20241202T163737Z
LAST-MODIFIED:20241202T164005Z
UID:10003092-1823761800-1823761800@stmatthewsbrecksville.org
SUMMARY:Worship Service
DESCRIPTION:
URL:https://stmatthewsbrecksville.org/event/worship-service/2027-10-17/
END:VEVENT
END:VCALENDAR